Workbook
Name sche: [1]日程!$D$6:$Q$91

Sheet 大会参加申込書(例）
A1: =データ!B1 -> 2026年 第87回 女子全日本ホッケー選手権大会
A2: 参加申込書
B4: 下記のとおり参加申し込みいたします。
L5: 2026年11月XX日
A6: 都道府県名 | C6: 東京都 | E6: ホッケー協会 | G6: チーム代表者 | I6: 日本 太郎
A7: ふりがな | C7: にほんちーむ | E7: 〒 | G7: 150-8050
A8: チーム名 | C8: 日本チーム | E8: 所在地 | G8: 東京都渋谷区神南1-1-1 岸記念体育会館 内
E9: TEL | G9: 03-3481-2330 | I9: fax | K9: 03-3481-2329
A10: ふりがな | C10: にほん たろう | E10: 〒 | G10: 150-8050
A11: 連絡者氏名 | C11: 日本 太郎 | E11: 住 所 | G11: 東京都渋谷区神南1-1-1 岸記念体育会館 内
E12: 携帯電話 | G12: 000-3491-2330 | I12: e-mail | K12: nfo@japan-hockey.org
A13: 【ユニフォーム】
C14: シャツ | E14: パンツ/スコート | G14: ソックス | I14: ゴールキーパーシャツ | K14: (※1)手当者がいない場合は、本申込書記載でベンチ入りしない選手（20歳以上）から選出できる 但し、スターティングリストに記載する事
A15: 第1 | C15: レッド | E15: レッド | G15: レッド | I15: イエロー
A16: 第2 | C16: ホワイト | E16: ホワイト | G16: ホワイト | I16: ピンク
A17: 【役員】
A18: 役職名 | C18: 氏名 | E18: 公認指導者資格 | G18: 役職名 | I18: 氏名 | K18: 保有資格(※1)
A19: ふりがな | C19: にほん いちろう | E19: 有(下段に名称)・無 | G19: ふりがな | I19: にほん さぶろう | K19: 有(下段に名称)・無
A20: 監督 | C20: 日本 一郎 | E20: 有 | G20: 手当者氏名 | I20: 日本 三郎 | K20: 有
A21: JHA登録No. | C21: 1235678 | E21: 上級コーチ | G21: JHA登録No. | I21: 1235679 | K21: スポーツトレーナー
A22: ふりがな | C22: にほん じろう | E22: 有(下段に名称)・無 | G22: ふりがな | I22: にほん しろう | K22: 有(下段に名称)・無
A23: コーチ | C23: 日本 二郎 | E23: 有 | G23: 手当者氏名 | I23: 日本 四郎 | K23: 無
A24: JHA登録No. | C24: 1235677 | E24: コーチ | G24: JHA登録No. | I24: 1235680
A25: ふりがな | C25: にほん さぶろう | E25: 有(下段に名称)・無 | G25: ふりがな | K25: 有(下段に名称)・無
A26: キャプテン | C26: 日本 三郎 | G26: 部長
A27: JHA登録No. | C27: 1235669 | G27: JHA登録No.
A28: 【選手】
A29: No | B29: Po | C29: 氏名 | E29: ふりがな | G29: 出身校 | I29: 年齢・学年 | J29: 生年月日 | L29: JHA登録No.
L30: 1234567
A60: ※「Po」欄には、ＧＫ（ｺﾞｰﾙｷｰﾊﾟｰ）・C（ｷｬﾌﾟﾃﾝ）・C/GK（ｷｬﾌﾟﾃﾝ＝ｺﾞｰﾙｷｰﾊﾟｰ） をご記入ください。
E62: 参加申込書記入例：GAMEAPPLICATION_11 Rev.20210221

Sheet 大会参加申込書11人制
A1: =データ!B1 -> 2026年 第87回 女子全日本ホッケー選手権大会
D3: 参加申込書
B5: 下記のとおり参加申し込みいたします。 | N5: 記入年月日 | O5: 入力必須
J6: 年 月 日
A7: 都道府県名 | E7: ホッケー協会 | G7: チーム代表者 | N7: 申込期限 | O7: 2026年11月20日（金） 17:00厳守
A8: ふりがな | E8: 〒
A9: チーム名 | E9: 所在地
E10: TEL | I10: fax | N10: 参加申込書 | O10: 送信先
A11: ふりがな | E11: 〒 | N11: 《Ａ》E-mail送付先：
A12: 連絡者氏名 | E12: 住 所 | O12: info@japan-hockey.org
E13: 携帯電話 | I13: E-mail | N13: （公社）日本ホッケー協会
A14: 【ユニフォーム】 | N14: 〒160-0013 東京都新宿区霞ヶ丘4-2 Japan Sports Olympic Square
C15: シャツ | E15: パンツ/スコート | G15: ソックス | I15: ゴールキーパーシャツ | K15: (※1)手当者がいない場合は、本申込書記載でベンチ入りしない選手（20歳以上）から選出できる 但し、スターティングリストに記載する事 | N15: TEL O3-6812-9200 FAX 03-6812-9210
A16: 第1
A17: 第2 | N17: 《Ｂ》E-mail送付先：
A18: 【役員】 | O18: info@okayamahockey.org
A19: 役職名 | C19: 氏名 | E19: 公認指導者資格 | G19: 役職名 | I19: 氏名 | K19: 保有資格(※1) | N19: 第８７回全日本女子ホッケー選手権大会
A20: ふりがな | E20: 有(下段に名称)・無 | G20: ふりがな | K20: 有(下段に名称)・無 | N20: 参加申込メール受付担当 藤本 浩良
A21: 監督 | G21: 手当者氏名
A22: JHA登録No. | G22: JHA登録No.
A23: ふりがな | E23: 有(下段に名称)・無 | G23: ふりがな | K23: 有(下段に名称)・無
A24: コーチ | G24: 手当者氏名
A25: JHA登録No. | G25: JHA登録No.
A26: ふりがな | E26: 有(下段に名称)・無 | G26: 背番号 | K26: （再掲） | N26: 追加役員はスタッフ欄に役職（選択）氏名を記入
A27: スタッフ | G27: キャプテン
A28: JHA登録No.
A29: 【選手】
A30: No | B30: Po | C30: 氏名 | E30: ふりがな | G30: 出身校 | I30: 年齢・学年 | J30: 生年月日 | L30: JHA登録No.
A61: ※「Po」欄には、ＧＫ・ＦＢ・ＭＦ・ＦＷの別をご記入ください。
E62: 参加申込書：GAMEAPPLICATION_11 Rev.20210221

Sheet チーム紹介
B1: チーム名 | I1: =大会参加申込書11人制!C9 -> 0 | AT1: 大学・社会人 第 | BH1: 位
BP2: プログラム用原稿です。
B5: ロゴマーク ※ 得点板に表示します。 | Q5: チーム集合写真のデータを貼り付けてください。 ◎サイズ 140×70ｃｍ以上 ◎解像度 高画質 写真データの担当の方を下記に記載ください 画像が小さい場合は 後程連絡をいたします。
BP6: ユニフォーム・役員・選手のデータは申込書記入で反映されます
B20: チームのロゴマーク データを貼り付けて下さい ※正方形のもの
B28: ユニフォーム | M28: シャツ | R28: スコート | W28: ストッキング | AC28: 創 部
B30: FP | G30: １ｓｔ | M30: =大会参加申込書11人制!C16 -> 0 | R30: =大会参加申込書11人制!E16 -> 0 | W30: =大会参加申込書11人制!G16 -> 0
AC31: 所在地
G32: ２nd | M32: =大会参加申込書11人制!C17 -> 0 | R32: =大会参加申込書11人制!E17 -> 0 | W32: =大会参加申込書11人制!G17 -> 0
B34: GK | G34: １ｓｔ | M34: =大会参加申込書11人制!I16 -> 0
AC35: ホームページ
G36: ２nd | M36: =大会参加申込書11人制!I17 -> 0
B39: STAFF
B41: 監督 | J41: =大会参加申込書11人制!C21 -> 0 | AF41: 手当て者 | AN41: =大会参加申込書11人制!I21 -> 0
B43: コーチ | J43: =大会参加申込書11人制!C24 -> 0 | AF43: 手当て者 | AN43: =大会参加申込書11人制!I24 -> 0
B46: PLAYERS | BB46: チームスタッフ | BQ46: 年齢欄は、社会人は年齢を、学生は学年を記載してください。
B48: No. | E48: PO | H48: 氏 名 | P48: 年齢 | S48: 出身校 | AB48: No. | AE48: PO | AH48: 氏名 | AP48: 年齢 | AS48: 出身校 | BB48: =大会参加申込書11人制!C27 -> 0 | BQ48: 背番号の若い番号順に記載してください。
B50: =大会参加申込書11人制!A31 -> 0 | E50: =大会参加申込書11人制!B31 -> 0 | H50: =大会参加申込書11人制!C31 -> 0 | P50: =大会参加申込書11人制!I31 -> 0 | S50: =大会参加申込書11人制!G31 -> 0 | AB50: =大会参加申込書11人制!A46 -> 0 | AE50: =大会参加申込書11人制!B46 -> 0 | AH50: =大会参加申込書11人制!C46 -> 0 | AP50: =大会参加申込書11人制!I46 -> 0 | AS50: =大会参加申込書11人制!G46 -> 0
B52: =大会参加申込書11人制!A32 -> 0 | E52: =大会参加申込書11人制!B32 -> 0 | H52: =大会参加申込書11人制!C32 -> 0 | P52: =大会参加申込書11人制!I32 -> 0 | S52: =大会参加申込書11人制!G32 -> 0 | AB52: =大会参加申込書11人制!A47 -> 0 | AE52: =大会参加申込書11人制!B47 -> 0 | AH52: =大会参加申込書11人制!C47 -> 0 | AP52: =大会参加申込書11人制!I47 -> 0 | AS52: =大会参加申込書11人制!G47 -> 0
B54: =大会参加申込書11人制!A33 -> 0 | E54: =大会参加申込書11人制!B33 -> 0 | H54: =大会参加申込書11人制!C33 -> 0 | P54: =大会参加申込書11人制!I33 -> 0 | S54: =大会参加申込書11人制!G33 -> 0 | AB54: =大会参加申込書11人制!A48 -> 0 | AE54: =大会参加申込書11人制!B48 -> 0 | AH54: =大会参加申込書11人制!C48 -> 0 | AP54: =大会参加申込書11人制!I48 -> 0 | AS54: =大会参加申込書11人制!G48 -> 0
B56: =大会参加申込書11人制!A34 -> 0 | E56: =大会参加申込書11人制!B34 -> 0 | H56: =大会参加申込書11人制!C34 -> 0 | P56: =大会参加申込書11人制!I34 -> 0 | S56: =大会参加申込書11人制!G34 -> 0 | AB56: =大会参加申込書11人制!A49 -> 0 | AE56: =大会参加申込書11人制!B49 -> 0 | AH56: =大会参加申込書11人制!C49 -> 0 | AP56: =大会参加申込書11人制!I49 -> 0 | AS56: =大会参加申込書11人制!G49 -> 0
B58: =大会参加申込書11人制!A35 -> 0 | E58: =大会参加申込書11人制!B35 -> 0 | H58: =大会参加申込書11人制!C35 -> 0 | P58: =大会参加申込書11人制!I35 -> 0 | S58: =大会参加申込書11人制!G35 -> 0 | AB58: =大会参加申込書11人制!A50 -> 0 | AE58: =大会参加申込書11人制!B50 -> 0 | AH58: =大会参加申込書11人制!C50 -> 0 | AP58: =大会参加申込書11人制!I50 -> 0 | AS58: =大会参加申込書11人制!G50 -> 0
B60: =大会参加申込書11人制!A36 -> 0 | E60: =大会参加申込書11人制!B36 -> 0 | H60: =大会参加申込書11人制!C36 -> 0 | P60: =大会参加申込書11人制!I36 -> 0 | S60: =大会参加申込書11人制!G36 -> 0 | AB60: =大会参加申込書11人制!A51 -> 0 | AE60: =大会参加申込書11人制!B51 -> 0 | AH60: =大会参加申込書11人制!C51 -> 0 | AP60: =大会参加申込書11人制!I51 -> 0 | AS60: =大会参加申込書11人制!G51 -> 0
B62: =大会参加申込書11人制!A37 -> 0 | E62: =大会参加申込書11人制!B37 -> 0 | H62: =大会参加申込書11人制!C37 -> 0 | P62: =大会参加申込書11人制!I37 -> 0 | S62: =大会参加申込書11人制!G37 -> 0 | AB62: =大会参加申込書11人制!A52 -> 0 | AE62: =大会参加申込書11人制!B52 -> 0 | AH62: =大会参加申込書11人制!C52 -> 0 | AP62: =大会参加申込書11人制!I52 -> 0 | AS62: =大会参加申込書11人制!G52 -> 0
B64: =大会参加申込書11人制!A38 -> 0 | E64: =大会参加申込書11人制!B38 -> 0 | H64: =大会参加申込書11人制!C38 -> 0 | P64: =大会参加申込書11人制!I38 -> 0 | S64: =大会参加申込書11人制!G38 -> 0 | AB64: =大会参加申込書11人制!A53 -> 0 | AE64: =大会参加申込書11人制!B53 -> 0 | AH64: =大会参加申込書11人制!C53 -> 0 | AP64: =大会参加申込書11人制!I53 -> 0 | AS64: =大会参加申込書11人制!G53 -> 0
B66: =大会参加申込書11人制!A39 -> 0 | E66: =大会参加申込書11人制!B39 -> 0 | H66: =大会参加申込書11人制!C39 -> 0 | P66: =大会参加申込書11人制!I39 -> 0 | S66: =大会参加申込書11人制!I39 -> 0 | AB66: =大会参加申込書11人制!A54 -> 0 | AE66: =大会参加申込書11人制!B54 -> 0 | AH66: =大会参加申込書11人制!C54 -> 0 | AP66: =大会参加申込書11人制!I54 -> 0 | AS66: =大会参加申込書11人制!G54 -> 0
B68: =大会参加申込書11人制!A40 -> 0 | E68: =大会参加申込書11人制!B40 -> 0 | H68: =大会参加申込書11人制!C40 -> 0 | P68: =大会参加申込書11人制!I40 -> 0 | S68: =大会参加申込書11人制!G40 -> 0 | AB68: =大会参加申込書11人制!A55 -> 0 | AE68: =大会参加申込書11人制!B55 -> 0 | AH68: =大会参加申込書11人制!C55 -> 0 | AP68: =大会参加申込書11人制!I55 -> 0 | AS68: =大会参加申込書11人制!G55 -> 0
B70: =大会参加申込書11人制!A41 -> 0 | E70: =大会参加申込書11人制!B41 -> 0 | H70: =大会参加申込書11人制!C41 -> 0 | P70: =大会参加申込書11人制!I41 -> 0 | S70: =大会参加申込書11人制!G41 -> 0 | AB70: =大会参加申込書11人制!A56 -> 0 | AE70: =大会参加申込書11人制!B56 -> 0 | AH70: =大会参加申込書11人制!C56 -> 0 | AP70: =大会参加申込書11人制!I56 -> 0 | AS70: =大会参加申込書11人制!G56 -> 0
B72: =大会参加申込書11人制!A42 -> 0 | E72: =大会参加申込書11人制!B42 -> 0 | H72: =大会参加申込書11人制!C42 -> 0 | P72: =大会参加申込書11人制!I42 -> 0 | S72: =大会参加申込書11人制!G42 -> 0 | AB72: =大会参加申込書11人制!A57 -> 0 | AE72: =大会参加申込書11人制!B57 -> 0 | AH72: =大会参加申込書11人制!C57 -> 0 | AP72: =大会参加申込書11人制!I57 -> 0 | AS72: =大会参加申込書11人制!G57 -> 0
B74: =大会参加申込書11人制!A43 -> 0 | E74: =大会参加申込書11人制!B43 -> 0 | H74: =大会参加申込書11人制!C43 -> 0 | P74: =大会参加申込書11人制!I43 -> 0 | S74: =大会参加申込書11人制!G43 -> 0 | AB74: =大会参加申込書11人制!A58 -> 0 | AE74: =大会参加申込書11人制!B58 -> 0 | AH74: =大会参加申込書11人制!C58 -> 0 | AP74: =大会参加申込書11人制!I58 -> 0 | AS74: =大会参加申込書11人制!G58 -> 0
B76: =大会参加申込書11人制!A44 -> 0 | E76: =大会参加申込書11人制!B44 -> 0 | H76: =大会参加申込書11人制!C44 -> 0 | P76: =大会参加申込書11人制!I44 -> 0 | S76: =大会参加申込書11人制!G44 -> 0 | AB76: =大会参加申込書11人制!A59 -> 0 | AE76: =大会参加申込書11人制!B59 -> 0 | AH76: =大会参加申込書11人制!C59 -> 0 | AP76: =大会参加申込書11人制!I59 -> 0 | AS76: =大会参加申込書11人制!G59 -> 0
B78: =大会参加申込書11人制!A45 -> 0 | E78: =大会参加申込書11人制!B45 -> 0 | H78: =大会参加申込書11人制!C45 -> 0 | P78: =大会参加申込書11人制!I45 -> 0 | S78: =大会参加申込書11人制!G45 -> 0 | AB78: =大会参加申込書11人制!A60 -> 0 | AE78: =大会参加申込書11人制!B60 -> 0 | AH78: =大会参加申込書11人制!C60 -> 0 | AP78: =大会参加申込書11人制!I60 -> 0 | AS78: =大会参加申込書11人制!G60 -> 0
B82: 写真データ担当 | J82: 氏名 | AN82: メール
J83: 電話 | AN83: ＦＡＸ

Sheet 役員変更届
E1: 2026年12月 日 | I1: 年月日入力必要
A3: 2026年 第87回 女子全日本ホッケー選手権大会
A4: 役員登録変更届
A8: チーム名
B11: 役職 | D11: 氏名 | E11: ふりがな | F11: 公認指導者資格
A12: 変更前 | I12: 最終提出期限：１２月２３日(水)１７時必着
A13: 変更後 | J13: 下記＜Ａ＞＜Ｂ＞宛にメール送信のこと
A14: 変更前 | J14: ＜Ａ＞日本協会 | L14: info@japan-hockey.org
A15: 変更後 | J15: ＜Ｂ＞実行委員会 | L15: info@okayamahockey.org
A16: 変更前
A17: 変更後 | I17: ＜締め切り期限以降の変更は認められません＞
A18: 変更前
A19: 変更後
A20: 変更前
A21: 変更後
A22: 変更前
A23: 変更後
A24: 変更前
A25: 変更後
D28: チーム代表者氏名

Sheet 選手変更届 
F1: 2026年12月 日 | J1: 年月日入力必要
A3: 2026年 第87回 女子全日本ホッケー選手権大会
A4: 選手登録変更届
A8: チーム名
B11: Po | C11: No | D11: 氏名 | E11: ふりがな | F11: 出身校 | G11: 年齢・学年 | H11: 生年月日
A12: 変更前 | J12: 最終提出期限：１２月２３日(水)１７時必着
A13: 変更後 | K13: 下記＜Ａ＞＜Ｂ＞宛にメール送信のこと
A14: 変更前 | K14: ＜Ａ＞日本協会 | M14: info@japan-hockey.org
A15: 変更後 | K15: ＜Ｂ＞実行委員会 | M15: info@okayamahockey.org
A16: 変更前
A17: 変更後 | J17: ＜締め切り期限以降の変更は認められません＞
A18: 変更前
A19: 変更後
A20: 変更前
A21: 変更後
A22: 変更前
A23: 変更後
A24: 変更前
A25: 変更後
E28: チーム代表者氏名

Sheet データ
A1: 大会名 | B1: 2026年 第87回 女子全日本ホッケー選手権大会 | K1: このエリア（水色部）は記録担当の作業用です | N1: 改変不可
A2: 期間 | B2: 2026年１２月２５日（金）～２７日（日） | K2: 印刷設定していないので印刷はされません
A3: 場所 | B3: 岡山県赤磐市熊山運動公園多目的広場 | E3: 人工芝W
J4: ふりがな | K4: =大会参加申込書11人制!C9 -> 0 | N4: C
A5: 競技日程 | J5: チーム名 | K5: =大会参加申込書11人制!C9 -> 0 | N5: GK
A6: 試合番号 | B6: 月日 | C6: 時刻 | E6: 対戦カード | N6: C/GK
A7: 1 | B7: 45285 | C7: 0.39583333 | D7: １回戦 | E7: 社会人２位 | F7: vs | G7: 学生 ３位
A8: 2 | C8: 0.47916667 | D8: １回戦 | E8: 大学 １位 | F8: vs | G8: 社会人４位
A9: 3 | D9: １回戦 | E9: 社会人１位 | F9: vs | G9: 大学 ４位
A10: 4 | D10: １回戦 | E10: 大学 ２位 | F10: vs | G10: 社会人３位
A11: 5 | B11: 45286 | D11: 準決勝 | E11: ２ 勝者 | F11: vs | G11: １ 勝者 | J11: ユニフォーム | K11: 第１ | L11: 第２ | N11: 引率責任者
A12: 6 | D12: 準決勝 | E12: ３ 勝者 | F12: vs | G12: ４ 勝者 | J12: ＦＰシャツ | K12: =大会参加申込書11人制!C16 -> 0 | L12: =大会参加申込書11人制!C17 -> 0 | N12: 校 長
A13: 7 | B13: 45287 | D13: 三位決定戦 | E13: ５ 勝者 | F13: vs | G13: ６ 勝者 | J13: ＦＰパンツ | K13: =大会参加申込書11人制!E16 -> 0 | L13: =大会参加申込書11人制!E17 -> 0 | N13: 部 長
A14: 8 | D14: 決勝 | J14: ソックス | K14: =大会参加申込書11人制!G16 -> 0 | L14: =大会参加申込書11人制!G17 -> 0 | N14: 通 訳
J15: GKシャツ | K15: =大会参加申込書11人制!I16 -> 0 | L15: =大会参加申込書11人制!I17 -> 0 | N15: マネージャー
N16: スタッフ
K17: 監督 | L17: =大会参加申込書11人制!C21 -> 0 | M17: =大会参加申込書11人制!C20 -> 0
K18: コーチ | L18: =大会参加申込書11人制!C24 -> 0 | M18: =大会参加申込書11人制!C23 -> 0
K19: 手当者 | L19: =大会参加申込書11人制!I21 -> 0 | M19: =大会参加申込書11人制!I20 -> 0
K20: 手当者 | L20: =大会参加申込書11人制!I24 -> 0 | M20: =大会参加申込書11人制!I23 -> 0
K21: スタッフ | L21: =大会参加申込書11人制!C27 -> 0 | M21: =大会参加申込書11人制!C26 -> 0
K22: 主将 | L22: =大会参加申込書11人制!I27 -> 0 | M22: =大会参加申込書11人制!I26 -> 0
J28: =大会参加申込書11人制!B30 -> Po | K28: =大会参加申込書11人制!A30 -> No | L28: 氏名 | M28: ふりがな | N28: 年齢 | O28: 仮
A29: =IF(O29="GK","（GK）",IF(O29="C","（C）",IF(O29="C/GK","（C/GK）",""))) | J29: =大会参加申込書11人制!B31 -> 0 | K29: =A29 | L29: =大会参加申込書11人制!C31 -> 0 | M29: =大会参加申込書11人制!E31 -> 0 | O29: =大会参加申込書11人制!A31 -> 0
A30: =IF(O30="GK","（GK)",IF(O30="C","（C)",IF(O30="C/GK","（C/GK）",""))) | J30: =大会参加申込書11人制!B32 -> 0 | K30: =A30 | L30: =大会参加申込書11人制!C32 -> 0 | M30: =大会参加申込書11人制!E32 -> 0 | N30: =大会参加申込書11人制!I32 -> 0 | O30: =大会参加申込書11人制!A32 -> 0
A31: =IF(O31="GK","（GK)",IF(O31="C","（C)",IF(O31="C/GK","（C/GK）",""))) | J31: =大会参加申込書11人制!B33 -> 0 | K31: =A31 | L31: =大会参加申込書11人制!C33 -> 0 | M31: =大会参加申込書11人制!E33 -> 0 | N31: =大会参加申込書11人制!I33 -> 0 | O31: =大会参加申込書11人制!A33 -> 0
A32: =IF(O32="GK","（GK)",IF(O32="C","（C)",IF(O32="C/GK","（C/GK）",""))) | J32: =大会参加申込書11人制!B34 -> 0 | K32: =A32 | L32: =大会参加申込書11人制!C34 -> 0 | M32: =大会参加申込書11人制!E34 -> 0 | N32: =大会参加申込書11人制!I34 -> 0 | O32: =大会参加申込書11人制!A34 -> 0
A33: =IF(O33="GK","（GK)",IF(O33="C","（C)",IF(O33="C/GK","（C/GK）",""))) | J33: =大会参加申込書11人制!B35 -> 0 | K33: =A33 | L33: =大会参加申込書11人制!C35 -> 0 | M33: =大会参加申込書11人制!E35 -> 0 | N33: =大会参加申込書11人制!I35 -> 0 | O33: =大会参加申込書11人制!A35 -> 0
A34: =IF(O34="GK","（GK)",IF(O34="C","（C)",IF(O34="C/GK","（C/GK）",""))) | J34: =大会参加申込書11人制!B36 -> 0 | K34: =A34 | L34: =大会参加申込書11人制!C36 -> 0 | M34: =大会参加申込書11人制!E36 -> 0 | N34: =大会参加申込書11人制!I36 -> 0 | O34: =大会参加申込書11人制!A36 -> 0
A35: =IF(O35="GK","（GK)",IF(O35="C","（C)",IF(O35="C/GK","（C/GK）",""))) | J35: =大会参加申込書11人制!B37 -> 0 | K35: =A35 | L35: =大会参加申込書11人制!C37 -> 0 | M35: =大会参加申込書11人制!E37 -> 0 | N35: =大会参加申込書11人制!I37 -> 0 | O35: =大会参加申込書11人制!A37 -> 0
A36: =IF(O36="GK","（GK)",IF(O36="C","（C)",IF(O36="C/GK","（C/GK）",""))) | J36: =大会参加申込書11人制!B38 -> 0 | K36: =A36 | L36: =大会参加申込書11人制!C38 -> 0 | M36: =大会参加申込書11人制!E38 -> 0 | N36: =大会参加申込書11人制!I38 -> 0 | O36: =大会参加申込書11人制!A38 -> 0
A37: =IF(O37="GK","（GK)",IF(O37="C","（C)",IF(O37="C/GK","（C/GK）",""))) | J37: =大会参加申込書11人制!B39 -> 0 | K37: =A37 | L37: =大会参加申込書11人制!C39 -> 0 | M37: =大会参加申込書11人制!E39 -> 0 | N37: =大会参加申込書11人制!I39 -> 0 | O37: =大会参加申込書11人制!A39 -> 0
A38: =IF(O38="GK","（GK)",IF(O38="C","（C)",IF(O38="C/GK","（C/GK）",""))) | J38: =大会参加申込書11人制!B40 -> 0 | K38: =A38 | L38: =大会参加申込書11人制!C40 -> 0 | M38: =大会参加申込書11人制!E40 -> 0 | N38: =大会参加申込書11人制!I40 -> 0 | O38: =大会参加申込書11人制!A40 -> 0
A39: =IF(O39="GK","（GK)",IF(O39="C","（C)",IF(O39="C/GK","（C/GK）",""))) | J39: =大会参加申込書11人制!B41 -> 0 | K39: =A39 | L39: =大会参加申込書11人制!C41 -> 0 | M39: =大会参加申込書11人制!E41 -> 0 | N39: =大会参加申込書11人制!I41 -> 0 | O39: =大会参加申込書11人制!A41 -> 0
A40: =IF(O40="GK","（GK)",IF(O40="C","（C)",IF(O40="C/GK","（C/GK）",""))) | J40: =大会参加申込書11人制!B42 -> 0 | K40: =A40 | L40: =大会参加申込書11人制!C42 -> 0 | M40: =大会参加申込書11人制!E42 -> 0 | N40: =大会参加申込書11人制!I42 -> 0 | O40: =大会参加申込書11人制!A42 -> 0
A41: =IF(O41="GK","（GK)",IF(O41="C","（C)",IF(O41="C/GK","（C/GK）",""))) | J41: =大会参加申込書11人制!B43 -> 0 | K41: =A41 | L41: =大会参加申込書11人制!C43 -> 0 | M41: =大会参加申込書11人制!E43 -> 0 | N41: =大会参加申込書11人制!I43 -> 0 | O41: =大会参加申込書11人制!A43 -> 0
... A58: =IF(O58="GK","（GK)",IF(O58="C","（C)",IF(O58="C/GK","（C/GK）",""))) | J58: =大会参加申込書11人制!B60 -> 0 | K58: =A58 | L58: =大会参加申込書11人制!C60 -> 0 | M58: =大会参加申込書11人制!E60 -> 0 | N58: =大会参加申込書11人制!I60 -> 0 | O58: =大会参加申込書11人制!A60 -> 0

Sheet スターティングリスト
C1: =大会参加申込書11人制!A1 -> 2026年 第87回 女子全日本ホッケー選手権大会 | U1: 投入方法
E2: 期間：２０２３年１２月２２日(金)～１２月２４日(日) | U2: ・ まず、試合番号を投入して下さい（データシートの日程表参照） | Z2: （大会名・期間・試合日・試合時間が表示されます）
E3: ス タ ー テ ィ ン グ リ ス ト | P3: 公益社団法人 | U3: ・ 当該試合のベンチに入る選手の背番号を投入して下さい | Z3: （氏名・ふりがな・年齢が表示されます）
P4: 日本ホッケー協会 | U4: ・ 先発選手にチェック「 × 」を入れてください
U5: ・ 着用ユニフォームにチェック「 ✓ 」を入れてください
A6: 試合番号 | C6: 試合日 | G6: 試合時間 | K6: チーム名 | U6: 提出はすべてメール送信とし、締切りは試合開始４５分前 | AA6: 送信先：
C7: =IF($A$7="","",VLOOKUP($A$7,データ!$A$7:$G$13,2,FALSE)) | G7: =IF($A$7="","",VLOOKUP($A$7,データ!$A$7:$G$13,2,FALSE)) | K7: =大会参加申込書11人制!C9 -> 0 | X7: ご協力よろしくお願いします | AA7: okahockey@gmail.com
AA8: 岡山県ホッケー協会
A9: 出 場 選 手 | U9: 以下の項目は、申込書に記載の背番号投入で氏名とともに表示される | AA9: 受付・記録担当 東原 宏明
A10: 先発 | C10: 背番号 | E10: 姓 名 | K10: ふ り が な | R10: 年齢・学年 | U10: ・ 年齢・学年欄には 社会人は年齢、学生は学年を記入
E11: =IFERROR(IF($C11="","",VLOOKUP($C11,データ!$J$29:$N$58,3,FALSE)),"") | I11: =IFERROR(VLOOKUP($C11,データ!$J$29:$N$58,2,FALSE),"") | L11: =IFERROR(IF($C11="","",VLOOKUP($C11,データ!$J$29:$N$58,4,FALSE)),"") | R11: =IFERROR(VLOOKUP($C11,データ!$J$29:$N$58,5,FALSE),"") -> 0 | U11: ・ ゴールキーパーは、氏名の後に（ＧＫ）を付ける
E12: =IFERROR(IF($C12="","",VLOOKUP($C12,データ!$J$29:$N$58,3,FALSE)),"") | I12: =IFERROR(VLOOKUP($C12,データ!$J$29:$N$58,2,FALSE),"") | L12: =IFERROR(IF($C12="","",VLOOKUP($C12,データ!$J$29:$N$58,4,FALSE)),"") | R12: =IFERROR(VLOOKUP($C12,データ!$J$29:$N$58,5,FALSE),"") -> 0 | U12: ・ キャプテンは、氏名の後に（C）を付ける
E13: =IFERROR(IF($C13="","",VLOOKUP($C13,データ!$J$29:$N$58,3,FALSE)),"") | I13: =IFERROR(VLOOKUP($C13,データ!$J$29:$N$58,2,FALSE),"") | L13: =IFERROR(IF($C13="","",VLOOKUP($C13,データ!$J$29:$N$58,4,FALSE)),"") | R13: =IFERROR(VLOOKUP($C13,データ!$J$29:$N$58,5,FALSE),"") -> 0 | U13: ・ キャプテンがGKは、氏名の後に（C/GK）、又は（C・GK）を付ける
E14: =IFERROR(IF($C14="","",VLOOKUP($C14,データ!$J$29:$N$58,3,FALSE)),"") | I14: =IFERROR(VLOOKUP($C14,データ!$J$29:$N$58,2,FALSE),"") | L14: =IFERROR(IF($C14="","",VLOOKUP($C14,データ!$J$29:$N$58,4,FALSE)),"") | R14: =IFERROR(VLOOKUP($C14,データ!$J$29:$N$58,5,FALSE),"") -> 0
E15: =IFERROR(IF($C15="","",VLOOKUP($C15,データ!$J$29:$N$58,3,FALSE)),"") | I15: =IFERROR(VLOOKUP($C15,データ!$J$29:$N$58,2,FALSE),"") | L15: =IFERROR(IF($C15="","",VLOOKUP($C15,データ!$J$29:$N$58,4,FALSE)),"") | R15: =IFERROR(VLOOKUP($C15,データ!$J$29:$N$58,5,FALSE),"") -> 0
E16: =IFERROR(IF($C16="","",VLOOKUP($C16,データ!$J$29:$N$58,3,FALSE)),"") | I16: =IFERROR(VLOOKUP($C16,データ!$J$29:$N$58,2,FALSE),"") | L16: =IFERROR(IF($C16="","",VLOOKUP($C16,データ!$J$29:$N$58,4,FALSE)),"") | R16: =IFERROR(VLOOKUP($C16,データ!$J$29:$N$58,5,FALSE),"") -> 0
E17: =IFERROR(IF($C17="","",VLOOKUP($C17,データ!$J$29:$N$58,3,FALSE)),"") | I17: =IFERROR(VLOOKUP($C17,データ!$J$29:$N$58,2,FALSE),"") | L17: =IFERROR(IF($C17="","",VLOOKUP($C17,データ!$J$29:$N$58,4,FALSE)),"") | R17: =IFERROR(VLOOKUP($C17,データ!$J$29:$N$58,5,FALSE),"") -> 0 | U17: 準決勝、決勝へと進出した場合の提出も、前の試合で使用した用紙を上書き使用してください。
E18: =IFERROR(IF($C18="","",VLOOKUP($C18,データ!$J$29:$N$58,3,FALSE)),"") | I18: =IFERROR(VLOOKUP($C18,データ!$J$29:$N$58,2,FALSE),"") | L18: =IFERROR(IF($C18="","",VLOOKUP($C18,データ!$J$29:$N$58,4,FALSE)),"") | R18: =IFERROR(VLOOKUP($C18,データ!$J$29:$N$58,5,FALSE),"") -> 0
E19: =IFERROR(IF($C19="","",VLOOKUP($C19,データ!$J$29:$N$58,3,FALSE)),"") | I19: =IFERROR(VLOOKUP($C19,データ!$J$29:$N$58,2,FALSE),"") | L19: =IFERROR(IF($C19="","",VLOOKUP($C19,データ!$J$29:$N$58,4,FALSE)),"") | R19: =IFERROR(VLOOKUP($C19,データ!$J$29:$N$58,5,FALSE),"") -> 0
E20: =IFERROR(IF($C20="","",VLOOKUP($C20,データ!$J$29:$N$58,3,FALSE)),"") | I20: =IFERROR(VLOOKUP($C20,データ!$J$29:$N$58,2,FALSE),"") | L20: =IFERROR(IF($C20="","",VLOOKUP($C20,データ!$J$29:$N$58,4,FALSE)),"") | R20: =IFERROR(VLOOKUP($C20,データ!$J$29:$N$58,5,FALSE),"") -> 0
E21: =IFERROR(IF($C21="","",VLOOKUP($C21,データ!$J$29:$N$58,3,FALSE)),"") | I21: =IFERROR(VLOOKUP($C21,データ!$J$29:$N$58,2,FALSE),"") | L21: =IFERROR(IF($C21="","",VLOOKUP($C21,データ!$J$29:$N$58,4,FALSE)),"") | R21: =IFERROR(VLOOKUP($C21,データ!$J$29:$N$58,5,FALSE),"") -> 0 | U21: チェックマーク確認
E22: =IFERROR(IF($C22="","",VLOOKUP($C22,データ!$J$29:$N$58,3,FALSE)),"") | I22: =IFERROR(VLOOKUP($C22,データ!$J$29:$N$58,2,FALSE),"") | L22: =IFERROR(IF($C22="","",VLOOKUP($C22,データ!$J$29:$N$58,4,FALSE)),"") | R22: =IFERROR(VLOOKUP($C22,データ!$J$29:$N$58,5,FALSE),"") -> 0 | V22: 先発欄に「×」マークがついた先発選手数
E23: =IFERROR(IF($C23="","",VLOOKUP($C23,データ!$J$29:$N$58,3,FALSE)),"") | I23: =IFERROR(VLOOKUP($C23,データ!$J$29:$N$58,2,FALSE),"") | L23: =IFERROR(IF($C23="","",VLOOKUP($C23,データ!$J$29:$N$58,4,FALSE)),"") | R23: =IFERROR(VLOOKUP($C23,データ!$J$29:$N$58,5,FALSE),"") -> 0 | V23: =COUNTA($A$11:$B$28) -> 0
E24: =IFERROR(IF($C24="","",VLOOKUP($C24,データ!$J$29:$N$58,3,FALSE)),"") | I24: =IFERROR(VLOOKUP($C24,データ!$J$29:$N$58,2,FALSE),"") | L24: =IFERROR(IF($C24="","",VLOOKUP($C24,データ!$J$29:$N$58,4,FALSE)),"") | R24: =IFERROR(VLOOKUP($C24,データ!$J$29:$N$58,5,FALSE),"") -> 0 | V24: =IF(V23<=10,V37,IF(V23>=12,V38,V39)) -> 先発選手に「×」を付けてください
E25: =IFERROR(IF($C25="","",VLOOKUP($C25,データ!$J$29:$N$58,3,FALSE)),"") | I25: =IFERROR(VLOOKUP($C25,データ!$J$29:$N$58,2,FALSE),"") | L25: =IFERROR(IF($C25="","",VLOOKUP($C25,データ!$J$29:$N$58,4,FALSE)),"") | R25: =IFERROR(VLOOKUP($C25,データ!$J$29:$N$58,5,FALSE),"") -> 0
E26: =IFERROR(IF($C26="","",VLOOKUP($C26,データ!$J$29:$N$58,3,FALSE)),"") | I26: =IFERROR(VLOOKUP($C26,データ!$J$29:$N$58,2,FALSE),"") | L26: =IFERROR(IF($C26="","",VLOOKUP($C26,データ!$J$29:$N$58,4,FALSE)),"") | R26: =IFERROR(VLOOKUP($C26,データ!$J$29:$N$58,5,FALSE),"") -> 0
E27: =IFERROR(IF($C27="","",VLOOKUP($C27,データ!$J$29:$N$58,3,FALSE)),"") | I27: =IFERROR(VLOOKUP($C27,データ!$J$29:$N$58,2,FALSE),"") | L27: =IFERROR(IF($C27="","",VLOOKUP($C27,データ!$J$29:$N$58,4,FALSE)),"") | R27: =IFERROR(VLOOKUP($C27,データ!$J$29:$N$58,5,FALSE),"") -> 0
E28: =IFERROR(IF($C28="","",VLOOKUP($C28,データ!$J$29:$N$58,3,FALSE)),"") | I28: =IFERROR(VLOOKUP($C28,データ!$J$29:$N$58,2,FALSE),"") | L28: =IFERROR(IF($C28="","",VLOOKUP($C28,データ!$J$29:$N$58,4,FALSE)),"") | R28: =IFERROR(VLOOKUP($C28,データ!$J$29:$N$58,5,FALSE),"") -> 0 | U28: 出場停止者は先発欄に「Ｓ」を付けること
E29: =[2]データ!H18 -> 0
A30: 監 督 | D30: ： | E30: =データ!L17 -> 0 | K30: コ ー チ | N30: ： | O30: =データ!L18 -> 0 | T30: ・ | U30: 18名以外の選手で「手当て者」としてベンチ入りする者の氏名は、参加申込書の手当者欄に氏名を投入する
A31: 手当者 | D31: ： | E31: =データ!L19 -> 0 | K31: 手当者 | N31: ： | O31: =データ!L20 -> 0 | U31: ことにより、スターティングリスト用紙に反映される（ただし、参加申込書に記載の選手で、20歳以上のこと）
D32: ： | E32: =データ!L21 -> 0 | N32: ： | U32: TDが認めた者（引率責任者・校長・部長・通訳・マネージャー等） 役職を記入後、氏名を記入して下さい
A34: First | K34: Second
A35: シャツ | E35: =データ!K12 -> 0 | K35: シャツ | O35: =データ!L12 -> 0
A36: パンツ/スコート | E36: =データ!K13 -> 0 | K36: パンツ/スコート | O36: =データ!L13 -> 0
A37: ソックス | E37: =データ!K14 -> 0 | K37: ソックス | O37: =データ!L14 -> 0 | V37: 先発選手に「×」を付けてください
A38: ＧＫシャツ | E38: =データ!K15 -> 0 | K38: ＧＫシャツ | O38: =データ!L15 -> 0 | V38: 先発選手が12名以上います
D39: ↑ | E39: ※ 試合に着用するユニフォームに 「✓」 を記入 | N39: ↑ | V39: OK！先発選手11名に「×」がついています
J41: TO ：
O43: STARTINGLIST Rev.20200222
